BEGIN:VCALENDAR
VERSION:2.0
PRODID:-// Nelson Alexander - Northcote iCal
CALSCALE:GREGORIAN
X-WR-CALDESC:
X-WR-CALNAME:
BEGIN:VEVENT
SUMMARY:Ofi for 929 Mt Alexander Road\, Essendon VIC 3040 
DTSTART;TZID=UTC;VALUE=DATE-TIME:20260425T044000Z
DTEND;TZID=UTC;VALUE=DATE-TIME:20260425T050000Z
DTSTAMP;VALUE=DATE-TIME:20260422T010946Z
CATEGORIES:APPOINTMENT
DESCRIPTION:Ofi for 929 Mt Alexander Road\, Essendon VIC 3040 
LOCATION:929 Mt Alexander Road\, Essendon VIC 3040 
URL:https://www.nelsonalexander.com.au/property/1874161/929-mt-alexander-r
 oad-essendon-vic-3040/
END:VEVENT
END:VCALENDAR
