BEGIN:VCALENDAR
VERSION:2.0
PRODID:-// Nelson Alexander - Northcote iCal
CALSCALE:GREGORIAN
X-WR-CALDESC:
X-WR-CALNAME:
BEGIN:VEVENT
SUMMARY:Ofi for 143 Church Street\, Hawthorn VIC 3122 
DTSTART;TZID=UTC;VALUE=DATE-TIME:20260425T050000Z
DTEND;TZID=UTC;VALUE=DATE-TIME:20260425T051500Z
DTSTAMP;VALUE=DATE-TIME:20260421T223842Z
CATEGORIES:APPOINTMENT
DESCRIPTION:Ofi for 143 Church Street\, Hawthorn VIC 3122 
LOCATION:143 Church Street\, Hawthorn VIC 3122 
URL:https://www.nelsonalexander.com.au/property/1864259/143-church-street-
 hawthorn-vic-3122/
END:VEVENT
END:VCALENDAR
