BEGIN:VCALENDAR
VERSION:2.0
PRODID:-// Nelson Alexander - Northcote iCal
CALSCALE:GREGORIAN
X-WR-CALDESC:
X-WR-CALNAME:
BEGIN:VEVENT
SUMMARY:Ofi for 262 Waterloo Road\, Glenroy VIC 3046 
DTSTART;TZID=UTC;VALUE=DATE-TIME:20260423T073000Z
DTEND;TZID=UTC;VALUE=DATE-TIME:20260423T075000Z
DTSTAMP;VALUE=DATE-TIME:20260420T025305Z
CATEGORIES:APPOINTMENT
DESCRIPTION:Ofi for 262 Waterloo Road\, Glenroy VIC 3046 
LOCATION:262 Waterloo Road\, Glenroy VIC 3046 
URL:https://www.nelsonalexander.com.au/property/1863931/262-waterloo-road-
 glenroy-vic-3046/
END:VEVENT
END:VCALENDAR
