BEGIN:VCALENDAR
VERSION:2.0
PRODID:-// Nelson Alexander - Northcote iCal
CALSCALE:GREGORIAN
X-WR-CALDESC:
X-WR-CALNAME:
BEGIN:VEVENT
SUMMARY:Ofi for 14 Westmere Place\, Viewbank VIC 3084 
DTSTART;TZID=UTC;VALUE=DATE-TIME:20260423T053000Z
DTEND;TZID=UTC;VALUE=DATE-TIME:20260423T060000Z
DTSTAMP;VALUE=DATE-TIME:20260420T015027Z
CATEGORIES:APPOINTMENT
DESCRIPTION:Ofi for 14 Westmere Place\, Viewbank VIC 3084 
LOCATION:14 Westmere Place\, Viewbank VIC 3084 
URL:https://www.nelsonalexander.com.au/property/1810722/14-westmere-place-
 viewbank-vic-3084/
END:VEVENT
END:VCALENDAR
